BEGIN:VCALENDAR
VERSION:2.0
PRODID:-//TJ Ribs - ECPv6.7.1//NONSGML v1.0//EN
CALSCALE:GREGORIAN
METHOD:PUBLISH
X-ORIGINAL-URL:https://tjribs.com
X-WR-CALDESC:Events for TJ Ribs
REFRESH-INTERVAL;VALUE=DURATION:PT1H
X-Robots-Tag:noindex
X-PUBLISHED-TTL:PT1H
BEGIN:VTIMEZONE
TZID:America/Chicago
BEGIN:DAYLIGHT
TZOFFSETFROM:-0600
TZOFFSETTO:-0500
TZNAME:CDT
DTSTART:20250309T080000
END:DAYLIGHT
BEGIN:STANDARD
TZOFFSETFROM:-0500
TZOFFSETTO:-0600
TZNAME:CST
DTSTART:20251102T070000
END:STANDARD
TZID:UTC
BEGIN:STANDARD
TZOFFSETFROM:+0000
TZOFFSETTO:+0000
TZNAME:UTC
DTSTART:20250101T000000
END:STANDARD
END:VTIMEZONE
BEGIN:VEVENT
DTSTART;TZID=America/Chicago:20251105T183000
DTEND;TZID=America/Chicago:20251105T193000
DTSTAMP:20260420T103148
CREATED:20250730T185437Z
LAST-MODIFIED:20250730T185437Z
UID:994-1762367400-1762371000@tjribs.com
SUMMARY:Overtime Live with Roman Banks
DESCRIPTION:Join us for the Overtime Live Talk Show with Southern University Athletic Director Roman Banks at TJ Ribs! Meet coaches\, players\, staff\, and the Jaguar Nation for dinner\, spirits and a closer look into Jaguar Athletics.
URL:https://tjribs.com/event/overtime-live-with-roman-banks-19/
LOCATION:TJ Ribs Acadian\, 2324 S Acadian Thruway\, Baton Rouge\, LA\, 70808\, United States
END:VEVENT
BEGIN:VEVENT
DTSTART;TZID=America/Chicago:20251106T190000
DTEND;TZID=America/Chicago:20251106T200000
DTSTAMP:20260420T103148
CREATED:20250730T184719Z
LAST-MODIFIED:20251111T143654Z
UID:985-1762455600-1762459200@tjribs.com
SUMMARY:LSU Football Coaches Show
DESCRIPTION:Join LSU Football Coach Brian Kelly at TJ Ribs for The Brian Kelly Show\, a one-hour radio call-in show with the football head coach along with “The Voice of the Tigers” Chris Blair\, aired live during the LSU Football season. \nListeners are encouraged to be a part of the show by submitting a question online or tagging @LSUradio on Twitter
URL:https://tjribs.com/event/the-brian-kelly-show-10/
LOCATION:TJ Ribs Acadian\, 2324 S Acadian Thruway\, Baton Rouge\, LA\, 70808\, United States
END:VEVENT
BEGIN:VEVENT
DTSTART;VALUE=DATE:20251111
DTEND;VALUE=DATE:20251112
DTSTAMP:20260420T103148
CREATED:20250701T143804Z
LAST-MODIFIED:20250701T143804Z
UID:965-1762819200-1762905599@tjribs.com
SUMMARY:Veteran's Day
DESCRIPTION:
URL:https://tjribs.com/event/veterans-day/
LOCATION:LA
END:VEVENT
BEGIN:VEVENT
DTSTART;TZID=America/Chicago:20251113T190000
DTEND;TZID=America/Chicago:20251113T200000
DTSTAMP:20260420T103148
CREATED:20250730T184743Z
LAST-MODIFIED:20251111T143739Z
UID:986-1763060400-1763064000@tjribs.com
SUMMARY:LSU Football Coaches Show
DESCRIPTION:Join LSU Football Coach Brian Kelly at TJ Ribs for The Brian Kelly Show\, a one-hour radio call-in show with the football head coach along with “The Voice of the Tigers” Chris Blair\, aired live during the LSU Football season. \nListeners are encouraged to be a part of the show by submitting a question online or tagging @LSUradio on Twitter
URL:https://tjribs.com/event/the-brian-kelly-show-11/
LOCATION:TJ Ribs Acadian\, 2324 S Acadian Thruway\, Baton Rouge\, LA\, 70808\, United States
END:VEVENT
BEGIN:VEVENT
DTSTART;TZID=America/Chicago:20251119T183000
DTEND;TZID=America/Chicago:20251119T193000
DTSTAMP:20260420T103148
CREATED:20250730T185502Z
LAST-MODIFIED:20250730T185502Z
UID:995-1763577000-1763580600@tjribs.com
SUMMARY:Overtime Live with Roman Banks
DESCRIPTION:Join us for the Overtime Live Talk Show with Southern University Athletic Director Roman Banks at TJ Ribs! Meet coaches\, players\, staff\, and the Jaguar Nation for dinner\, spirits and a closer look into Jaguar Athletics.
URL:https://tjribs.com/event/overtime-live-with-roman-banks-20/
LOCATION:TJ Ribs Acadian\, 2324 S Acadian Thruway\, Baton Rouge\, LA\, 70808\, United States
END:VEVENT
BEGIN:VEVENT
DTSTART;TZID=America/Chicago:20251120T190000
DTEND;TZID=America/Chicago:20251120T200000
DTSTAMP:20260420T103148
CREATED:20250730T184806Z
LAST-MODIFIED:20251111T143747Z
UID:987-1763665200-1763668800@tjribs.com
SUMMARY:LSU Football Coaches Show
DESCRIPTION:Join LSU Football Coach Brian Kelly at TJ Ribs for The Brian Kelly Show\, a one-hour radio call-in show with the football head coach along with “The Voice of the Tigers” Chris Blair\, aired live during the LSU Football season. \nListeners are encouraged to be a part of the show by submitting a question online or tagging @LSUradio on Twitter
URL:https://tjribs.com/event/the-brian-kelly-show-12/
LOCATION:TJ Ribs Acadian\, 2324 S Acadian Thruway\, Baton Rouge\, LA\, 70808\, United States
END:VEVENT
BEGIN:VEVENT
DTSTART;TZID=America/Chicago:20251124T190000
DTEND;TZID=America/Chicago:20251124T200000
DTSTAMP:20260420T103148
CREATED:20250730T184944Z
LAST-MODIFIED:20251111T143809Z
UID:988-1764010800-1764014400@tjribs.com
SUMMARY:LSU Football Coaches Show
DESCRIPTION:Join LSU Football Coach Brian Kelly at TJ Ribs for The Brian Kelly Show\, a one-hour radio call-in show with the football head coach along with “The Voice of the Tigers” Chris Blair\, aired live during the LSU Football season. \nListeners are encouraged to be a part of the show by submitting a question online or tagging @LSUradio on Twitter
URL:https://tjribs.com/event/the-brian-kelly-show-13/
LOCATION:TJ Ribs Acadian\, 2324 S Acadian Thruway\, Baton Rouge\, LA\, 70808\, United States
END:VEVENT
BEGIN:VEVENT
DTSTART;VALUE=DATE:20251127
DTEND;VALUE=DATE:20251128
DTSTAMP:20260420T103148
CREATED:20250701T143826Z
LAST-MODIFIED:20250701T143826Z
UID:966-1764201600-1764287999@tjribs.com
SUMMARY:Thanksgiving
DESCRIPTION:
URL:https://tjribs.com/event/thanksgiving/
LOCATION:LA
END:VEVENT
END:VCALENDAR