BEGIN:VCALENDAR
VERSION:2.0
PRODID:-//TJ Ribs - ECPv6.7.1//NONSGML v1.0//EN
CALSCALE:GREGORIAN
METHOD:PUBLISH
X-WR-CALNAME:TJ Ribs
X-ORIGINAL-URL:https://tjribs.com
X-WR-CALDESC:Events for TJ Ribs
REFRESH-INTERVAL;VALUE=DURATION:PT1H
X-Robots-Tag:noindex
X-PUBLISHED-TTL:PT1H
BEGIN:VTIMEZONE
TZID:America/Chicago
BEGIN:DAYLIGHT
TZOFFSETFROM:-0600
TZOFFSETTO:-0500
TZNAME:CDT
DTSTART:20250309T080000
END:DAYLIGHT
BEGIN:STANDARD
TZOFFSETFROM:-0500
TZOFFSETTO:-0600
TZNAME:CST
DTSTART:20251102T070000
END:STANDARD
TZID:UTC
BEGIN:STANDARD
TZOFFSETFROM:+0000
TZOFFSETTO:+0000
TZNAME:UTC
DTSTART:20250101T000000
END:STANDARD
END:VTIMEZONE
BEGIN:VEVENT
DTSTART;TZID=America/Chicago:20250813T183000
DTEND;TZID=America/Chicago:20250813T193000
DTSTAMP:20260424T122543
CREATED:20250730T185207Z
LAST-MODIFIED:20250730T185222Z
UID:989-1755109800-1755113400@tjribs.com
SUMMARY:Overtime Live with Roman Banks
DESCRIPTION:Join us for the Overtime Live Talk Show with Southern University Athletic Director Roman Banks at TJ Ribs! Meet coaches\, players\, staff\, and the Jaguar Nation for dinner\, spirits and a closer look into Jaguar Athletics.
URL:https://tjribs.com/event/overtime-live-with-roman-banks-14/
LOCATION:TJ Ribs Acadian\, 2324 S Acadian Thruway\, Baton Rouge\, LA\, 70808\, United States
END:VEVENT
BEGIN:VEVENT
DTSTART;TZID=America/Chicago:20250820T183000
DTEND;TZID=America/Chicago:20250820T193000
DTSTAMP:20260424T122543
CREATED:20250730T185251Z
LAST-MODIFIED:20250730T185251Z
UID:990-1755714600-1755718200@tjribs.com
SUMMARY:Overtime Live with Roman Banks
DESCRIPTION:Join us for the Overtime Live Talk Show with Southern University Athletic Director Roman Banks at TJ Ribs! Meet coaches\, players\, staff\, and the Jaguar Nation for dinner\, spirits and a closer look into Jaguar Athletics.
URL:https://tjribs.com/event/overtime-live-with-roman-banks-15/
LOCATION:TJ Ribs Acadian\, 2324 S Acadian Thruway\, Baton Rouge\, LA\, 70808\, United States
END:VEVENT
BEGIN:VEVENT
DTSTART;TZID=America/Chicago:20250821T190000
DTEND;TZID=America/Chicago:20250821T200000
DTSTAMP:20260424T122543
CREATED:20250730T184227Z
LAST-MODIFIED:20250730T184227Z
UID:976-1755802800-1755806400@tjribs.com
SUMMARY:The Brian Kelly Show
DESCRIPTION:Join LSU Football Coach Brian Kelly at TJ Ribs for The Brian Kelly Show\, a one-hour radio call-in show with the football head coach along with “The Voice of the Tigers” Chris Blair\, aired live during the LSU Football season. \nListeners are encouraged to be a part of the show by submitting a question online or tagging @LSUradio on Twitter
URL:https://tjribs.com/event/the-brian-kelly-show/
LOCATION:TJ Ribs Acadian\, 2324 S Acadian Thruway\, Baton Rouge\, LA\, 70808\, United States
END:VEVENT
BEGIN:VEVENT
DTSTART;VALUE=DATE:20250823
DTEND;VALUE=DATE:20250824
DTSTAMP:20260424T122543
CREATED:20250701T144037Z
LAST-MODIFIED:20250701T144037Z
UID:971-1755907200-1755993599@tjribs.com
SUMMARY:College Football Kickoff
DESCRIPTION:
URL:https://tjribs.com/event/college-football-kickoff/
LOCATION:LA
END:VEVENT
BEGIN:VEVENT
DTSTART;TZID=America/Chicago:20250828T190000
DTEND;TZID=America/Chicago:20250828T200000
DTSTAMP:20260424T122543
CREATED:20250730T184306Z
LAST-MODIFIED:20250730T184306Z
UID:977-1756407600-1756411200@tjribs.com
SUMMARY:The Brian Kelly Show
DESCRIPTION:Join LSU Football Coach Brian Kelly at TJ Ribs for The Brian Kelly Show\, a one-hour radio call-in show with the football head coach along with “The Voice of the Tigers” Chris Blair\, aired live during the LSU Football season. \nListeners are encouraged to be a part of the show by submitting a question online or tagging @LSUradio on Twitter
URL:https://tjribs.com/event/the-brian-kelly-show-2/
LOCATION:TJ Ribs Acadian\, 2324 S Acadian Thruway\, Baton Rouge\, LA\, 70808\, United States
END:VEVENT
END:VCALENDAR